BEGIN:VCALENDAR
VERSION:2.0
PRODID:-//Vallalar Mission - ECPv6.15.20//NONSGML v1.0//EN
CALSCALE:GREGORIAN
METHOD:PUBLISH
X-WR-CALNAME:Vallalar Mission
X-ORIGINAL-URL:https://vallalarmission.org
X-WR-CALDESC:Events for Vallalar Mission
REFRESH-INTERVAL;VALUE=DURATION:PT1H
X-Robots-Tag:noindex
X-PUBLISHED-TTL:PT1H
BEGIN:VTIMEZONE
TZID:UTC
BEGIN:STANDARD
TZOFFSETFROM:+0000
TZOFFSETTO:+0000
TZNAME:UTC
DTSTART:20230101T000000
END:STANDARD
END:VTIMEZONE
BEGIN:VEVENT
DTSTART;TZID=UTC:20241009T080000
DTEND;TZID=UTC:20241119T170000
DTSTAMP:20260425T155547
CREATED:20240923T045439Z
LAST-MODIFIED:20240923T052507Z
UID:23674-1728460800-1732035600@vallalarmission.org
SUMMARY:Maha Annadhanam Donations for feeding Sadhus and Yogis in Himalayas
DESCRIPTION:Maha Annadhanam Donations for feeding Sadhus and Yogis in Himalayas | சாதுக்கள் யோகிகள் சிவனடியார்கள் பக்தர்களுக்குஅன்னதானம்				\n				\n					\n		\n					\n		\n				\n						\n					\n			\n						\n				\n							\n			\n		\n						\n				\n					\n		\n					\n		\n				\n						\n					\n			\n						\n				\n									\n					\n						\n									DONATE NOW\n					\n					\n				\n								\n				\n					\n		\n					\n		\n				\n						\n					\n			\n						\n				\n							\n			\n		\n						\n				\n					\n		\n					\n		\n				\n						\n					\n			\n						\n				\n									இமயமலை பயணத்தில் சாதுக்கள் யோகிகள் சிவனடியார்கள் பக்தர்களுக்கு அன்னதானம் செய்ய அரிய வாய்ப்பு Maha Annadhanam for Sadhus\, Yogi’s\, Sivanadiyar & Bakthas in Himalayan trip Traveling & Annadhanam date10th Oct – 19th Oct 2024 இந்த மகா அன்னதான திட்டத்தில் கலந்து தங்களால் இயன்ற உதவிகளை செய்து புண்ணியத்தை பாகம் செய்து கொள்ளுமாறு தாழ்மையுடன் கேட்டுக்கொள்கிறோம் +91 98940 10007 +919942776351 Razorpay page for Maha Annadhanam @himalayas https://rzp.io/l/94nT4A8r 								\n				\n					\n		\n				\n			\n						\n				\n																														\n				\n					\n		\n					\n		\n				\n						\n					\n			\n						\n				\n									  https://youtu.be/6ssYpimWCD4?si=8d8sKulYD5SP-EHA
URL:https://vallalarmission.org/event/maha-annadhanam-donations-for-feeding-sadhus-and-yogis-in-himalayas/
CATEGORIES:Daily Annadhanam,Others
ATTACH;FMTTYPE=image/jpeg:https://vallalarmission.org/wp-content/uploads/2024/09/WhatsApp-Image-2024-09-19-at-19.01.41.jpeg
END:VEVENT
END:VCALENDAR